BEGIN:VCALENDAR
VERSION:2.0
PRODID:icalendar-ruby
CALSCALE:GREGORIAN
METHOD:PUBLISH
BEGIN:VEVENT
DTSTAMP:20260422T134502Z
UID:52-451329@stpaul131.tithelysetup5.com
DTSTART:20260628T230000Z
DTEND:20260629T010000Z
CLASS:PUBLIC
CREATED:20260421T113112
DESCRIPTION:Mark your calendar for our annual Ice Cream Social. Good food a
 nd great entertainment! More details to come...
LAST-MODIFIED:20260421T113112
LOCATION:St. Paul's Lutheran Church
SUMMARY:Ice Cream Social
URL;VALUE=URI:https://www.stpauls.me/events/ice-cream-social--52/2026-06-28
ATTACH;FILENAME=Ice-Cream-3.jpg;FMTTYPE=image/jpeg:https://dq5pwpg1q8ru0.cl
 oudfront.net/2026/04/21/16/31/11/1b365848-e178-43ef-a152-d1f6eaed7438/Ice-
 Cream-3.jpg
END:VEVENT
END:VCALENDAR
